BEGIN:VCALENDAR
VERSION:2.0
PRODID:-//wp-events-plugin.com//7.2.3.1//EN
TZID:Europe/Berlin
X-WR-TIMEZONE:Europe/Berlin
BEGIN:VEVENT
UID:3@tennisclub-orscholz.de
DTSTART;TZID=Europe/Berlin:20181124T180000
DTEND;TZID=Europe/Berlin:20181124T180000
DTSTAMP:20181113T160621Z
URL:https://www.tennisclub-orscholz.de/events/muschelabend/
SUMMARY:Muschelabend
DESCRIPTION:Bald ist es wieder soweit - Muschelabend!\nUnsere Köche werden
  sich wohl wieder mächtig ins Zeug legen und uns mit ihren Künsten verw
 öhnen.\nAlternativ zu Muscheln wird es Schnitzel geben.\n\nZum Essen wird
  Grauer Burgunder und Riesling vom Weingut Boesen aus Palzem angeboten.
END:VEVENT
BEGIN:VTIMEZONE
TZID:Europe/Berlin
X-LIC-LOCATION:Europe/Berlin
BEGIN:STANDARD
DTSTART:20181028T020000
TZOFFSETFROM:+0200
TZOFFSETTO:+0100
TZNAME:CET
END:STANDARD
END:VTIMEZONE
END:VCALENDAR